BEGIN:VCALENDAR
VERSION:2.0
PRODID:-//Me2 Club - ECPv6.15.11//NONSGML v1.0//EN
CALSCALE:GREGORIAN
METHOD:PUBLISH
X-WR-CALNAME:Me2 Club
X-ORIGINAL-URL:https://me2club.org.uk
X-WR-CALDESC:Events for Me2 Club
REFRESH-INTERVAL;VALUE=DURATION:PT1H
X-Robots-Tag:noindex
X-PUBLISHED-TTL:PT1H
BEGIN:VTIMEZONE
TZID:UTC
BEGIN:STANDARD
TZOFFSETFROM:+0000
TZOFFSETTO:+0000
TZNAME:UTC
DTSTART:20250101T000000
END:STANDARD
END:VTIMEZONE
BEGIN:VEVENT
DTSTART;TZID=UTC:20260421T173000
DTEND;TZID=UTC:20260421T185000
DTSTAMP:20260421T021235
CREATED:20250702T100027Z
LAST-MODIFIED:20260325T090427Z
UID:14039-1776792600-1776797400@me2club.org.uk
SUMMARY:Include Me2 - Mental Health Champions
DESCRIPTION:Join our young Mental Health Champions! \nMe2 Club train and support Reading and Wokingham young people with additional needs aged 10 – 20 to be Mental Health Champions. \nYoung people will make friends\, gain confidence and get useful experience for college and work\, see what our young people have achieved here. \nTo find out more about this opportunity and how your young person could get involved\, please email ramona@me2club.org.uk \nDetails of venue in Woodley will be communicated directly to young people and their families when booking.
URL:https://me2club.org.uk/event/include-me2/
LOCATION:Woodley – details on registration
CATEGORIES:Events,Groups for Young People
ATTACH;FMTTYPE=image/png:https://me2club.org.uk/wp-content/uploads/2025/07/Include-Me2-Logo-1.png
END:VEVENT
END:VCALENDAR